BEGIN:VCALENDAR
VERSION:2.0
PRODID:-//Manhattan Association of Cabarets - ECPv6.15.20//NONSGML v1.0//EN
CALSCALE:GREGORIAN
METHOD:PUBLISH
X-WR-CALNAME:Manhattan Association of Cabarets
X-ORIGINAL-URL:https://macnyc.com
X-WR-CALDESC:Events for Manhattan Association of Cabarets
REFRESH-INTERVAL;VALUE=DURATION:PT1H
X-Robots-Tag:noindex
X-PUBLISHED-TTL:PT1H
BEGIN:VTIMEZONE
TZID:America/New_York
BEGIN:DAYLIGHT
TZOFFSETFROM:-0500
TZOFFSETTO:-0400
TZNAME:EDT
DTSTART:20250309T070000
END:DAYLIGHT
BEGIN:STANDARD
TZOFFSETFROM:-0400
TZOFFSETTO:-0500
TZNAME:EST
DTSTART:20251102T060000
END:STANDARD
BEGIN:DAYLIGHT
TZOFFSETFROM:-0500
TZOFFSETTO:-0400
TZNAME:EDT
DTSTART:20260308T070000
END:DAYLIGHT
BEGIN:STANDARD
TZOFFSETFROM:-0400
TZOFFSETTO:-0500
TZNAME:EST
DTSTART:20261101T060000
END:STANDARD
BEGIN:DAYLIGHT
TZOFFSETFROM:-0500
TZOFFSETTO:-0400
TZNAME:EDT
DTSTART:20270314T070000
END:DAYLIGHT
BEGIN:STANDARD
TZOFFSETFROM:-0400
TZOFFSETTO:-0500
TZNAME:EST
DTSTART:20271107T060000
END:STANDARD
END:VTIMEZONE
BEGIN:VEVENT
DTSTART;TZID=America/New_York:20260612T180000
DTEND;TZID=America/New_York:20260614T203000
DTSTAMP:20260420T184253
CREATED:20260409T052352Z
LAST-MODIFIED:20260413T052218Z
UID:178040-1781287200-1781469000@macnyc.com
SUMMARY:Risa Finkel: Grist for the Mill
DESCRIPTION:Risa Finkel returns to the great outdoors of Long Island to celebrate the 250th anniversary of our nation in her new show Grist for the Mill\, June 12\, 13\, and 14. With arrangements and musical direction by Paul Greenwood and Michael Rice\, Rex Benincasa on drums\, Ritt Henn on bass\, and Mike Rosengarten on guitar\, banjo\, and mandolin\, the show is directed by Geoff Stoner\, with technical direction by Kelly Wohlford. Creative consultant is David Friedman. \nFinkel will offer an eclectic program of songs\, both familiar and new\, combined with stories and humor\, that celebrate freedom\, family\, love\, opportunity and community. Before and after the show\, there will be a gathering with light fare and beverages. Proceeds will benefit the preservation of the Lefferts Tide Mill\, the nation’s best preserved 18th century tidal gristmill\, listed on the National Register of Historic Places. \n“…it is her depth of expressiveness and attention to story that makes a lovely voice remarkable.” ~ Navida Stein\, StageBuddy \n“…an impressive talent for making listeners feel fully at home.” ~ Mark Dundas Wood\, Bistro Awards \nRisa Finkel has had a long and illustrious career. She has appeared on stages and in concert venues on Long Island\, in New York City and around the country as an actress and as a singer of music ranging from the American Popular songbook\, to Broadway and opera. In addition to her love of performing and singing\, Finkel has always had a great interest in story-telling. Over the years\, she has found that the best way to combine all of these talents and interests is in the art form of cabaret. Grist for the Mill follows Finkel’s two sold-out shows outdoors at Long Island’s Caumsett State Historic Park Preserve: A Grand Night For Singing\, June 28\, 2024\, and Sunday in the Park with Risa\, October 20\, 2024. \nLefferts Tide Mill and Preserve is a non-profit 501(c)(3) organization established to preserve this 18th century treasure in its original location and to maintain the preserve as a sanctuary for native and migratory waterfowl and as an important contributor to the biodiversity of the surrounding area. For more information: leffertstidemill.org \nGrist for the Mill \nFriday\, JUNE 12 – Mill opens 5:45 pm / Showtime 7:30 pm \nSaturday\, JUNE 13 – Mill opens 5:45 pm / Showtime 7:30 pm \nSunday\, JUNE 14 – Mill opens 5:15 pm / Showtime 7:00 pm \nVocals: RISA FINKEL \nArrangements and Musical Direction: PAUL GREENWOOD and MICHAEL RICE \nDrums: REX BENINCASA  \nBass: RITT HENN \nGuitar/Banjo/Mandolin: MIKE ROSENGARTEN \nGEOFF STONER  – Director \nDAVID FRIEDMAN – Creative Consultant \nKELLY WOHLFORD – Technical Director \nParking and walking access to the Mill: \n5 Bouton Road \nLloyd Harbor \nHuntington\, NY 11743 \nPlease Note: The Tide Mill is a historic structure with uneven surfaces. Access to the site requires walking approximately 300 yards over uneven terrain and navigating a flight of stairs. Guests should wear appropriate footwear and take care while moving about the property. \nTICKETS: https://www.tickettailor.com/events/leffertstidemillpreserve \nFor more information and to make a tax deductible donation visit: leffertstidemill.org
URL:https://macnyc.com/event/risa-finkel-grist-for-the-mill/
LOCATION:Lefferts Tide Mill\, 5 Bouton Road\, Lloyd Harbor\, Huntington\, NY\, 11743\, United States
ATTACH;FMTTYPE=image/jpeg:https://media.macnyc.com/wp-content/uploads/2026/04/09012354/AD_FINKEL-Risa_web_4-6-26.jpg
END:VEVENT
BEGIN:VEVENT
DTSTART;TZID=America/New_York:20260613T190000
DTEND;TZID=America/New_York:20260613T203000
DTSTAMP:20260420T184253
CREATED:20260416T204339Z
LAST-MODIFIED:20260416T204339Z
UID:178101-1781377200-1781382600@macnyc.com
SUMMARY:PROJECT 2026: BLUE TSUNAMI!
DESCRIPTION:PROJECT 2026: BLUE TSUNAMI! Cabaret Variety Fundraising Series for Democratic Congress Candidates\, produced and hosted by Stephen Hanks\, is scheduled for May 7\, June 13\, September 1\, and October 20. All shows at 7PM at Don’t Tell Mama (343 West 46th St\, New York\, NY\, 10036). Tickets: $30. Minimum: $20 (Must include two drinks). Cash only. \nThe cast for the June 13th show features: April Armstrong\, Peter Calo\, Terri Dannenberg\, Natalie Douglas\, Any Engelhardt\, Lauren Fox\, Rosemary Loar\, Sue Matsuki\, Kati Neiheisel\, Geri Palast. Music Director: Gregory Toroian. \nSeven months prior to the 2018 midterm elections\, long-time Cabaret Show Reviewer\, Producer\, Publicist\, and Performer Stephen Hanks launched a series of five cabaret variety shows as fundraisers for Democratic Senate\, Congress\, and State Legislature candidates. The critically acclaimed CABARET CAMPAIGNS: RIDE THE BLUE WAVE 2018!\, performed at Don’t Tell Mama and featuring 28 different performers\, raised more than $6\,000 divided among 30 candidates. Election Day 2018 was indeed a “Blue Wave\,” as the Democrats flipped 40 seats in Congress. After presenting two Blue Wave Victory Shows at Don’t Tell Mama in January 2019 and one Blue Wave Greatest Hits show at Urban Stages in June 2019—all of which received rave reviews from the Cabaret press—Hanks and his “Blue Wave Group” hit the cabaret club campaign trail again in January 2020\, May 2022\, and May 2024 with shows that raised money to support national voting rights groups and New York Democratic Congressional candidates. In September 2024\, Hanks and his “Blue Wavers” were back at Don’t Tell Mama with the 12th variety fundraising show\, this time to raise money for the Presidential campaign of Vice-President Kamala Harris. \n“I was hoping that after the 2024 Presidential election\, I wouldn’t need to produce these shows again\,” Hanks admits. “But given the current dangers to our First-Amendment Rights\, Voting Rights\, Health Care\, Personal Freedoms\, National Security\, the attacks on Immigrants\, and More\, it is imperative that Democrats win both houses of Congress in the 2026 midterm elections. Hence\, the new series PROJECT 2026: BLUE TSUNAMI! I’m hoping these fundraising shows will  also energize audiences to support Democratic candidates however they can. As in times past\, the cabaret art form is an ideal vehicle to get this important message out\, while at the same time also supporting those on the front lines of the fight.”
URL:https://macnyc.com/event/project-2026-blue-tsunami/
LOCATION:Don't Tell Mama\, 343 W 46th Street\, New York\, New York\, 10036
ATTACH;FMTTYPE=image/jpeg:https://media.macnyc.com/wp-content/uploads/2026/04/16164340/Blue-June-1050-x-750-px.jpg
END:VEVENT
BEGIN:VEVENT
DTSTART;TZID=America/New_York:20260620T130000
DTEND;TZID=America/New_York:20260620T140000
DTSTAMP:20260420T184253
CREATED:20260327T155847Z
LAST-MODIFIED:20260327T175159Z
UID:177972-1781960400-1781964000@macnyc.com
SUMMARY:Brenda Liz Henry: A Boogie Down Bronx Tale
DESCRIPTION:The Green Room 42 presents Brenda Liz Henry in A Boogie Down Bronx Tale on June 4th and June 20th. Making her solo cabaret show debut\, Brenda will tell the story behind her musical journey and music’s role in her life. The show will feature a variety of musical genres that inspired Brenda growing up\, including the genre that was born in her borough – Hip Hop. Audiences will learn not only about the role that music played in Brenda’s life\, but also how she found her way to the cabaret stage. At the end\, Brenda hopes audiences will come away connecting to the universal elements of her personal story. The show features Gregory Toroian\, piano\, arranger\, and musical director\, David Silliman\, drums\, Skip Ward\, bass and Lina Koutrakos\, director. \nBrenda Liz Henry in A Boogie Down Bronx Tale plays at The Green Room 42 on Thursday\, June 4th @ 7pm and Saturday\, June 20th @ 1pm. Tickets are available starting at $19\, with no food or beverage minimum. Tickets and more information are available at www.thegreenroom42.com. \nFrom her earliest memories\, Brenda Liz Henry has loved music and storytelling. Over the last decade\, Brenda has performed at Don’t Tell Mama\, the Duplex\, and Pangea. Of a December 2025 group holiday show performance\, Bart Greenberg\, Cabaret Scenes\, wrote “Following that was the confident Brenda Henry. She knew her material and was sure of how to use her excellent voice. She projected a relaxed presence that allowed the audience to relax as well. Her quartet of numbers were fresh and clever….Henry will definitely be heard from again.” Instagram: @brenlizhen \nThe Green Room 42 is located at 570 Tenth Avenue inside YOTEL New York City. @TheGreenRoom42 \nDirect ticket links: \nThursday\, June 4\, 7 PM: https://thegreenroom42.venuetix.com/booking/9IzAS9SHbEqbbT0pTXZb \nSaturday\, June 20\, 1 PM: https://thegreenroom42.venuetix.com/booking/ZFpsnVtqvPks9CwesDCA \nGraphic Design by Safiy D Sanchez [@safdasan.com]
URL:https://macnyc.com/event/brenda-liz-henry-a-boogie-down-bronx-tale-2/
LOCATION:The Green Room 42\, 570 Tenth Ave 4th floor of the Yotel\, New York\, NJ\, 10036\, United States
ATTACH;FMTTYPE=image/jpeg:https://media.macnyc.com/wp-content/uploads/2026/03/27115852/Boogie-Down-Bronx-Tale-Front-1-1-scaled.jpg
END:VEVENT
BEGIN:VEVENT
DTSTART;TZID=America/New_York:20260625T180000
DTEND;TZID=America/New_York:20260628T210000
DTSTAMP:20260420T184253
CREATED:20260409T050855Z
LAST-MODIFIED:20260409T050855Z
UID:178034-1782410400-1782680400@macnyc.com
SUMMARY:NiCori Cabaret Seminar
DESCRIPTION:The NiCori Cabaret Seminar is an immersive four-day performance intensive designed for adult performers (ages 18+) looking to develop their voice\, storytelling\, and stage presence in a cabaret setting. Through a series of hands-on sessions\, participants explore key elements of cabaret performance\, including finding their personal story\, working with a music director\, mastering microphone technique\, and understanding the art of engaging an audience. The seminar will take place at NiCori Studios in Bloomfield\, NJ. \nThe seminar combines practical training with collaborative rehearsal\, culminating in a final showcase where participants have the opportunity to perform. With guidance from industry professionals\, including Corinna Sowers Adler\, Frank Dain\, Adam DeCarlo\, Meg Flather\, James Horan\, Karen Mack\, Marieann Meringolo\, Shane Turner\, Lisa Viggiano\, and Darnell White\, this program offers a supportive and dynamic environment to refine skills\, build confidence\, and bring authentic\, compelling performances to life. \nThis seminar is for beginner and advanced cabaret performers alike. Participants may choose to register for the complete seven-session seminar\, choose four of the seven sessions\, or choose single sessions\, à la carte. (Only those participating in all seven sessions are eligible to perform in the final showcase.) \nNiCori Studios & Productions is dedicated to educating both amateur and seasoned performing artists alike. Voice lessons\, musical theatre classes\, acting workshops\, songwriting workshops\, dance classes\, and technical theatre workshops are all part of the curriculum that makes NiCori the place to create and grow as an artist\, a performer\, and a person. \nJune 25\, 6 PM – June 28\, 9 PM \nProduced by NiCori Studios & Productions \nCorinna Sowers Adler\, Founding Artistic Director \nNicholas Adler\, Executive Director \nNiCori Studios & Productions \n375 Watchung Avenue \nBloomfield\, NJ 07003 \nnicoristudios.com \n(570) 640-9226 \nRegistration and information: \nnicoristudios.com/events/nicori-4-day-cabaret-seminar/ \n$773.00 (includes Sales Tax) – 7 Sessions: Full Seminar \n$559.76 (includes Sales Tax) – 4 Sessions: Partial Seminar \n$213.24 (includes Sales Tax) – 1 Session: Single Sessions \nAt time of registration\, payment may be made via Venmo to Corinnasings or by check to NiCori Studios & Productions. If paying by check\, please email info@nicoristudios.com. \nNiCori Cabaret Seminar Schedule: June 25\, 6 PM – June 28\, 9 PM \nJUNE 25 \nSession One \nCabaret Lab \nCorinna Sowers Adler and Shane Turner \n6:00 – 9:00 PM \nJUNE 26 \nSession Two \nFinding Your Story \nMeg Flather \n6:00 – 9:00 PM \nJUNE 27 \nSession Three \nRehearsing With Your MD \nDarnell White\, James Horan\, and Shane Turner \n12:00 – 2:00 PM \nSession Four \nCabaret Pro Panel Discussion: “The Art of Cabaret” \nMarieann Meringolo\, Lisa Viggiano\, Frank Dain\, and Karen Mack \n3:00 – 5:00 PM \nSession Five \nThe Mechanics of the Mic \nAdam DeCarlo \n6:00 – 8:00 PM \nJUNE 28 \nSession Six \nApplying What You Learned to Rehearsal \nCorinna Sowers Adler and Shane Turner \n3:00 – 5:00 PM \nSession Seven \nFinal Showcase \nSeven-Session Seminar Participants \n7:00 – 9:00 PM \nOpen to the public: $20 cover \n(Tickets will be available for purchase at NiCoriStudios.com)
URL:https://macnyc.com/event/nicori-cabaret-seminar/
LOCATION:NiCori Studios & Productions\, 375 Watchung Avenue\, Bloomfield\, NJ\, 07003\, United States
ATTACH;FMTTYPE=image/jpeg:https://media.macnyc.com/wp-content/uploads/2026/04/09010856/NJ-Cabaret-Seminar_June2026.jpg
END:VEVENT
END:VCALENDAR