BEGIN:VCALENDAR
VERSION:2.0
PRODID:-//Manhattan Association of Cabarets - ECPv6.15.20//NONSGML v1.0//EN
CALSCALE:GREGORIAN
METHOD:PUBLISH
X-WR-CALNAME:Manhattan Association of Cabarets
X-ORIGINAL-URL:https://macnyc.com
X-WR-CALDESC:Events for Manhattan Association of Cabarets
REFRESH-INTERVAL;VALUE=DURATION:PT1H
X-Robots-Tag:noindex
X-PUBLISHED-TTL:PT1H
BEGIN:VTIMEZONE
TZID:America/New_York
BEGIN:DAYLIGHT
TZOFFSETFROM:-0500
TZOFFSETTO:-0400
TZNAME:EDT
DTSTART:20250309T070000
END:DAYLIGHT
BEGIN:STANDARD
TZOFFSETFROM:-0400
TZOFFSETTO:-0500
TZNAME:EST
DTSTART:20251102T060000
END:STANDARD
BEGIN:DAYLIGHT
TZOFFSETFROM:-0500
TZOFFSETTO:-0400
TZNAME:EDT
DTSTART:20260308T070000
END:DAYLIGHT
BEGIN:STANDARD
TZOFFSETFROM:-0400
TZOFFSETTO:-0500
TZNAME:EST
DTSTART:20261101T060000
END:STANDARD
BEGIN:DAYLIGHT
TZOFFSETFROM:-0500
TZOFFSETTO:-0400
TZNAME:EDT
DTSTART:20270314T070000
END:DAYLIGHT
BEGIN:STANDARD
TZOFFSETFROM:-0400
TZOFFSETTO:-0500
TZNAME:EST
DTSTART:20271107T060000
END:STANDARD
END:VTIMEZONE
BEGIN:VEVENT
DTSTART;TZID=America/New_York:20260515T190000
DTEND;TZID=America/New_York:20260515T203000
DTSTAMP:20260420T124737
CREATED:20260326T125241Z
LAST-MODIFIED:20260326T125241Z
UID:177715-1778871600-1778877000@macnyc.com
SUMMARY:The Randy Andys Spring Swing
DESCRIPTION:The Randy Andys: Spring Swing – Iconic Hits With A Vintage Twist \nThe Randy Andys perform iconic hits through the decades with a vintage twist\, blending trademark wit\, glamour\, Broadway talent\, and dazzling three-part harmonies to create an evening that feels nostalgic\, sophisticated\, and wildly entertaining. Inspired by Postmodern Jukebox\, The Randy Andys fuse pop culture with retro flair so cleverly that The New York Times hailed them as “ones to watch.” \nFrom the swing era of The Andrews Sisters to iconic pop divas like Mariah Carey\, this fast-paced revue celebrates Louella’s\, Bev’s and JoJo’s stories of life\, love and friendship\, while singing hits from The Andrews Sisters\, Beyonce\, Aerosmith\, and Michael Jackson in perfect harmony. With a wink and a nod to a bygone era\, The Randy Andys Spring Swing moves like a musical and hits like a concert\, delivering the best of both worlds. \nStarring Monica Blume (Dear Evan Hansen)\, Joy Del Valle (West Side Story)\, and Alison Mahoney (Ragtime\, The Food Network). Featuring the Matthew Everingham Trio\, with direction by Antoinette DiPietropolo and choreography by Gina Daugherty. Produced by Gabrielle Ruiz\, Alison Mahoney\, and Jocelyn Lonquist Klein. \n$20.00 cover charge and a $20 Minimum (must include 2 drinks) per person with a reservation \n$25.00 cover charge and a $20 Minimum (must include 2 drinks) per person without a reservation \nCASH ONLY \nFood Menu Available \nSeating from 6:15pm \nApproximate running time: 65 minutes
URL:https://macnyc.com/event/the-randy-andys-spring-swing/
LOCATION:Don’t Tell Mama\, 343 West 46th St\, New York\, NY\, 10036\, United States
ATTACH;FMTTYPE=image/png:https://media.macnyc.com/wp-content/uploads/2026/03/26085246/2026-The-Randy-Andys-Spring-Swing.png
END:VEVENT
END:VCALENDAR