BEGIN:VCALENDAR
VERSION:2.0
PRODID:-//Manhattan Association of Cabarets - ECPv6.15.20//NONSGML v1.0//EN
CALSCALE:GREGORIAN
METHOD:PUBLISH
X-ORIGINAL-URL:https://macnyc.com
X-WR-CALDESC:Events for Manhattan Association of Cabarets
REFRESH-INTERVAL;VALUE=DURATION:PT1H
X-Robots-Tag:noindex
X-PUBLISHED-TTL:PT1H
BEGIN:VTIMEZONE
TZID:America/New_York
BEGIN:DAYLIGHT
TZOFFSETFROM:-0500
TZOFFSETTO:-0400
TZNAME:EDT
DTSTART:20250309T070000
END:DAYLIGHT
BEGIN:STANDARD
TZOFFSETFROM:-0400
TZOFFSETTO:-0500
TZNAME:EST
DTSTART:20251102T060000
END:STANDARD
BEGIN:DAYLIGHT
TZOFFSETFROM:-0500
TZOFFSETTO:-0400
TZNAME:EDT
DTSTART:20260308T070000
END:DAYLIGHT
BEGIN:STANDARD
TZOFFSETFROM:-0400
TZOFFSETTO:-0500
TZNAME:EST
DTSTART:20261101T060000
END:STANDARD
BEGIN:DAYLIGHT
TZOFFSETFROM:-0500
TZOFFSETTO:-0400
TZNAME:EDT
DTSTART:20270314T070000
END:DAYLIGHT
BEGIN:STANDARD
TZOFFSETFROM:-0400
TZOFFSETTO:-0500
TZNAME:EST
DTSTART:20271107T060000
END:STANDARD
END:VTIMEZONE
BEGIN:VEVENT
DTSTART;TZID=America/New_York:20260512T183000
DTEND;TZID=America/New_York:20260512T193000
DTSTAMP:20260420T154809
CREATED:20260417T170941Z
LAST-MODIFIED:20260417T171008Z
UID:178109-1778610600-1778614200@macnyc.com
SUMMARY:Meg Flather – Epiphany
DESCRIPTION:Two Labor Days ago Meg Flather found herself up late watching Turner Classic Movies. When a big movie musical began to play\, Meg hunkered down to watch it for the 75 th time. Late into the musical Meg observed that one of the lead characters experienced 5 epiphanies in one song. Meg thought wouldn’t it be interesting to comb through her musical theater past and curate an evening of epiphanies! Director\, Lennie Watts and Musical Director\,Tracy Stark really liked the idea and EPIPHANY was born! Join the award-winning team as they explore “ah ha” moments from an eclectic range of musicals like Starting Here Starting Now\, The Magic Show\, The Pajama Game\, My Fair Lady\, The Fantasticks\, Working\, and NINE! \nMeg Flather has won two Bistro and three MAC Awards as a performer—including Major Female Artist—\, a MAC and BroadwayWorld Award as a songwriter\, and the Special Production MAC Award for her show Meg Flather Songs/A Cabaret Sisterhood. Meg’s Hammersein & Sondheim CAREFULLY TAUGHT won a BroadwayWorld Award for Best Show\, and Meg’s solo musical\, Hold On Tight . . . a love story was awarded the United Solo Award for Best Storytelling Show. Meg has released ten CDs of her original music and has authored two books: Home Shopping Diva. . . Lessons\, Lyrics and Lipstick and Hold On Tight . . . a love story. Meg proudly serves as the North American Brand Ambassador for StriVectin Skincare—promoting the brand on QVC USA\, QVC UK\, and TSC\, Canada. \nJOSEPHINE’S in the NAPOLEON ROOM – Boston’s best professionals and tomorrow’s rising stars singing JAZZ\, BROADWAY & MADCAP CABARET! Dinner seating starts at 5:30 pm and the one hour show begins at 6:30 pm. RESERVATIONS strongly recommended.
URL:https://macnyc.com/event/meg-flather-epiphany/
LOCATION:Josephine’s at Club Cafe\, 209 Columbus Ave\, Boston\, MA\, 02116\, United States
ATTACH;FMTTYPE=image/jpeg:https://media.macnyc.com/wp-content/uploads/2026/04/17130945/FB0512-scaled.jpg
END:VEVENT
BEGIN:VEVENT
DTSTART;TZID=America/New_York:20260512T190000
DTEND;TZID=America/New_York:20260512T203000
DTSTAMP:20260420T154809
CREATED:20260420T051216Z
LAST-MODIFIED:20260420T051216Z
UID:178123-1778612400-1778617800@macnyc.com
SUMMARY:Stephanie Pope: Livin' It Up!
DESCRIPTION:“..a triumphant\, soul-baring evening…”- Magda Katz\, Times Square Chronicles \n“Pope dazzles with the same effervescence that made her one of the most reliable go-to musical performers…”- Ron Fassler\, Theater Pizzazz \n“[Pope] possesses really great pipes that can go from mellow emotion to playful\, lilting jazz and moves with the grace of a panther on the prowl.”- Backstage \n“They say 3’s a charm!” 2x MAC Award nominee and eleven Broadway show veteran Stephanie Pope returns to the New York cabaret stage for the 3rd time with an encore of her solo show titled Stephanie Pope: Livin’ It Up! Through her take on songs from Broadway’s Hadestown and Sunset Boulevard\, her eleven Broadway shows including Jelly’s Last Jam\, Fosse and Kiss of The Spider Womanto songs by Billy Porter and India.Arie\, plus tunes from her critically acclaimed solo CD\, Now’s The Time To Fall In Love\, Stephanie boldly shares her journey back to the cabaret stage complete with stories and anecdotes from her time sharing the stage with legendary Broadway stars like Chita Rivera and Bob Fosse. Lovingly directed by Ben Vereen\, with music direction by 54 Below favorite Ian Herman. If you missed it before\, here’s your final chance!
URL:https://macnyc.com/event/stephanie-pope-livin-it-up/
LOCATION:54 Below\, 254 West 54th Street\, New York\, 10019\, United States
ATTACH;FMTTYPE=image/png:https://media.macnyc.com/wp-content/uploads/2026/04/20011222/IMG_7893.png
END:VEVENT
END:VCALENDAR