BEGIN:VCALENDAR
VERSION:2.0
PRODID:-//Manhattan Association of Cabarets - ECPv6.15.20//NONSGML v1.0//EN
CALSCALE:GREGORIAN
METHOD:PUBLISH
X-ORIGINAL-URL:https://macnyc.com
X-WR-CALDESC:Events for Manhattan Association of Cabarets
REFRESH-INTERVAL;VALUE=DURATION:PT1H
X-Robots-Tag:noindex
X-PUBLISHED-TTL:PT1H
BEGIN:VTIMEZONE
TZID:America/New_York
BEGIN:DAYLIGHT
TZOFFSETFROM:-0500
TZOFFSETTO:-0400
TZNAME:EDT
DTSTART:20250309T070000
END:DAYLIGHT
BEGIN:STANDARD
TZOFFSETFROM:-0400
TZOFFSETTO:-0500
TZNAME:EST
DTSTART:20251102T060000
END:STANDARD
BEGIN:DAYLIGHT
TZOFFSETFROM:-0500
TZOFFSETTO:-0400
TZNAME:EDT
DTSTART:20260308T070000
END:DAYLIGHT
BEGIN:STANDARD
TZOFFSETFROM:-0400
TZOFFSETTO:-0500
TZNAME:EST
DTSTART:20261101T060000
END:STANDARD
BEGIN:DAYLIGHT
TZOFFSETFROM:-0500
TZOFFSETTO:-0400
TZNAME:EDT
DTSTART:20270314T070000
END:DAYLIGHT
BEGIN:STANDARD
TZOFFSETFROM:-0400
TZOFFSETTO:-0500
TZNAME:EST
DTSTART:20271107T060000
END:STANDARD
END:VTIMEZONE
BEGIN:VEVENT
DTSTART;TZID=America/New_York:20260510T180000
DTEND;TZID=America/New_York:20260510T190000
DTSTAMP:20260420T124957
CREATED:20260330T184718Z
LAST-MODIFIED:20260330T184718Z
UID:177994-1778436000-1778439600@macnyc.com
SUMMARY:Mariana Elosúa and Anissa Perona - And They Were Roommates
DESCRIPTION:And They Were Roommates is a cabaret following two roommates\, Mariana and Anissa\, as they navigate life outside of the “cushy” confines of graduate school. They grapple with love\, loss\, frustration\, joy\, and couple allegations that they are playing into here! Come enjoy a night of musical theatre and pop with some anecdotes that are sure to lift your spirits! \nPianist: Scott Nicholas \nJOSEPHINE’S in the NAPOLEON ROOM – Boston’s best professionals and tomorrow’s rising stars singing JAZZ\, BROADWAY & MADCAP CABARET! Dinner seating starts at 5:00 pm and the one hour show begins at 6:00 pm. RESERVATIONS strongly recommended.
URL:https://macnyc.com/event/mariana-elosua-and-anissa-perona-and-they-were-roommates/
LOCATION:Josephine’s at Club Cafe\, 209 Columbus Ave\, Boston\, MA\, 02116\, United States
ATTACH;FMTTYPE=image/jpeg:https://media.macnyc.com/wp-content/uploads/2026/03/30144722/FB0510-scaled.jpg
END:VEVENT
END:VCALENDAR