BEGIN:VCALENDAR
VERSION:2.0
PRODID:-//Manhattan Association of Cabarets - ECPv6.15.20//NONSGML v1.0//EN
CALSCALE:GREGORIAN
METHOD:PUBLISH
X-ORIGINAL-URL:https://macnyc.com
X-WR-CALDESC:Events for Manhattan Association of Cabarets
REFRESH-INTERVAL;VALUE=DURATION:PT1H
X-Robots-Tag:noindex
X-PUBLISHED-TTL:PT1H
BEGIN:VTIMEZONE
TZID:America/New_York
BEGIN:DAYLIGHT
TZOFFSETFROM:-0500
TZOFFSETTO:-0400
TZNAME:EDT
DTSTART:20230312T070000
END:DAYLIGHT
BEGIN:STANDARD
TZOFFSETFROM:-0400
TZOFFSETTO:-0500
TZNAME:EST
DTSTART:20231105T060000
END:STANDARD
BEGIN:DAYLIGHT
TZOFFSETFROM:-0500
TZOFFSETTO:-0400
TZNAME:EDT
DTSTART:20240310T070000
END:DAYLIGHT
BEGIN:STANDARD
TZOFFSETFROM:-0400
TZOFFSETTO:-0500
TZNAME:EST
DTSTART:20241103T060000
END:STANDARD
BEGIN:DAYLIGHT
TZOFFSETFROM:-0500
TZOFFSETTO:-0400
TZNAME:EDT
DTSTART:20250309T070000
END:DAYLIGHT
BEGIN:STANDARD
TZOFFSETFROM:-0400
TZOFFSETTO:-0500
TZNAME:EST
DTSTART:20251102T060000
END:STANDARD
END:VTIMEZONE
BEGIN:VEVENT
DTSTART;TZID=America/New_York:20240507T180000
DTEND;TZID=America/New_York:20240507T191500
DTSTAMP:20260423T231332
CREATED:20240408T053037Z
LAST-MODIFIED:20240408T053037Z
UID:171647-1715104800-1715109300@macnyc.com
SUMMARY:Benefit for HAMPTONS SUMMER SONGBOOK By the Sea
DESCRIPTION:TUESDAY\, MAY 7 at 6PM\, at TRIAD THEATER: Come raise a glass with NYC’s finest\, legendary vocal interpreters before you pack your kitbag and head East for a season of melodic fun in the sun! Join us at Triad Theater in Manhattan for a Spring launch party / friend-raiser / fundraiser for HAMPTONS SUMMER SONGBOOK BY THE SEA\, a dynamic new performance season coming this summer to Long Island’s East End! We’ll gather with delight and anticipation to raise a glass and salute this new adventure – made possible in part thanks to the generous support of lead sponsors ELEANOR and HOWARD MORGAN. \nLTV Studios in East Hampton hosts a roster of the world’s best cabaret and Broadway artists\, including KAREN AKERS\, MARK NADLER\, KT SULLIVAN\, CHRISTINE ANDREAS & MARTY SILVESTRI\, LIZ LARSEN & SAL VIVIANO\, TOVAH FELDSHUH\, STEVE ROSS\, KAREN MURPHY\, MARK SINGER & DARCY DUNN\, ANNA BERGMAN\, ALEX RYBECK\, and more still to be announced – many of whom will make a special advance appearance at The Triad in a musical salute to launch this new series. \nProduced by DONNA RUBIN and LTV’s Creative Director JOSH GLADSTONE\, the HAMPTONS SUMMER SONGBOOK presents a roster of the world’s best cabaret and Broadway artists in the intimate\, funky and unique environs of a reconfigured\, industrial black-box television studio – complete with state-of-the art lighting and audio merging with the romantic ambiance of cafe’ table seating\, modular staging and a gorgeous Baby Grand; all combining for an up-front\, live encounter with legendary songs and songwriters as interpreted by today’s finest performers.\n\nTUESDAY\, MAY 7\, 6:00 PM (Approx Running Time: 75 Minutes)\n \n\n\nTRIAD THEATER\n158 West 72nd St\, 2nd floor\nNew York\, NY 10023\n$75 + 2 drink minimum\nTICKETS: https://www.instantseats.com/index.cfm?fuseaction=home.event&eventID=E22D7BFA-A91E-1452-3C5E5C643BD54E4F\nLIVE STREAM & ON-DEMAND AVAILABLE: https://furshmedia.stellartickets.com/events/ltv/occurrences/47e32f15-aabb-483a-b45f-61fc59be009a\n\n\nCabaret’s home in East Hampton at LTV’s intimate Studio Three Theater in Wainscott! PERFORMANCE SCHEDULE FOR 2024 COMING SOON: https://www.ltveh.org/hamptons-summer-songbook
URL:https://macnyc.com/event/benefit-for-hamptons-summer-songbook-by-the-sea/
LOCATION:Triad Theatre\, 158 W. 72nd St.\, New York\, NY\, United States
ATTACH;FMTTYPE=image/jpeg:https://media.macnyc.com/wp-content/uploads/2024/04/29160133/HamptonsSummerSongbook_480x720.jpg
END:VEVENT
END:VCALENDAR